BEGIN:VCALENDAR
VERSION:2.0
PRODID:-//ZContent.net//ZapCalLib 1.0//EN
CALSCALE:GREGORIAN
METHOD:PUBLISH
BEGIN:VEVENT
SUMMARY:Neues Erinnern – alte Geschichte(n). Umbruch und Kontinuität in 
 Gedenkstätten und Erinnerungsorten. | 2.Gemeinsame Gedenkstättentagung M
 ecklenburg-Vorpommern und Schleswig-Holstein
DTSTART:20221118T150000
DTEND:20221120T140000
UID:2026-04-26-01-21-28-0-@calendar.boell.de
DTSTAMP:20260425T232128
DESCRIPTION:▶ Siehe Veranstaltungsbeschreibung – Lübeck – 
END:VEVENT
END:VCALENDAR
