BEGIN:VCALENDAR
VERSION:2.0
PRODID:-//ZContent.net//ZapCalLib 1.0//EN
CALSCALE:GREGORIAN
METHOD:PUBLISH
BEGIN:VEVENT
SUMMARY:Böll-Montagskino: Jugendradio DT64 - Chronik einer angekündigten 
 Abwicklung
DTSTART:20221128T190000
DTEND:20221128T210000
UID:2026-04-22-03-01-40-0-@calendar.boell.de
DTSTAMP:20260422T010140
DESCRIPTION:▶ Siehe Veranstaltungsbeschreibung – Rostock – Landesstif
 tung Mecklenburg-Vorpommern
END:VEVENT
END:VCALENDAR
