BEGIN:VCALENDAR
VERSION:2.0
PRODID:-//ZContent.net//ZapCalLib 1.0//EN
CALSCALE:GREGORIAN
METHOD:PUBLISH
BEGIN:VEVENT
SUMMARY:OSTOPIE #1: Die „Offenen Wunden Osteuropas“ | Gespräch mit der
  Historikerin Franziska Davies über Erinnerungsorte des Zweiten Weltkrieg
 s in Osteuropa
DTSTART:20221108T190000
DTEND:20221108T210000
UID:2026-04-22-00-47-08-0-@calendar.boell.de
DTSTAMP:20260421T224708
DESCRIPTION:▶ Siehe Veranstaltungsbeschreibung – Bremen – Landesstift
 ung Bremen
END:VEVENT
END:VCALENDAR
