BEGIN:VCALENDAR
VERSION:2.0
PRODID:-//ZContent.net//ZapCalLib 1.0//EN
CALSCALE:GREGORIAN
METHOD:PUBLISH
BEGIN:VEVENT
SUMMARY:In den Häuern der Anderen. Spuren deutscher Vergangenheit in Westp
 olen
DTSTART:20221116T200000
DTEND:20221116T213000
UID:2026-04-22-03-01-38-0-@calendar.boell.de
DTSTAMP:20260422T010138
DESCRIPTION:▶ Siehe Veranstaltungsbeschreibung – Greifswald – Landess
 tiftung Mecklenburg-Vorpommern
END:VEVENT
END:VCALENDAR
