BEGIN:VCALENDAR
VERSION:2.0
PRODID:-//ZContent.net//ZapCalLib 1.0//EN
CALSCALE:GREGORIAN
METHOD:PUBLISH
BEGIN:VEVENT
SUMMARY:„Die Nacht der erschossenen Dichter:innen”  | Gespräche über 
 die Unterdrückung der belarusischen Kultur und Sprache im Kontext der akt
 uellen politischen Entwicklungen
DTSTART:20221029T140038
DTEND:20221029T173038
UID:2026-04-22-03-01-35-0-@calendar.boell.de
DTSTAMP:20260422T010135
DESCRIPTION:▶ Siehe Veranstaltungsbeschreibung – Bremen – Landesstift
 ung Bremen
END:VEVENT
END:VCALENDAR
