BEGIN:VCALENDAR
VERSION:2.0
PRODID:-//ZContent.net//ZapCalLib 1.0//EN
CALSCALE:GREGORIAN
METHOD:PUBLISH
BEGIN:VEVENT
SUMMARY:Sichere FLuchtwege unter Einbindung der Zivilgesellschaft | Resettl
 ement via Private Sponsorship
DTSTART:20221031T190000
DTEND:20221031T203000
UID:2026-04-21-12-01-24-0-@calendar.boell.de
DTSTAMP:20260421T100124
DESCRIPTION:▶ Siehe Veranstaltungsbeschreibung – Landesstiftung Hessen
END:VEVENT
END:VCALENDAR
