BEGIN:VCALENDAR
VERSION:2.0
PRODID:-//ZContent.net//ZapCalLib 1.0//EN
CALSCALE:GREGORIAN
METHOD:PUBLISH
BEGIN:VEVENT
SUMMARY:Zurück in die Zukunft | Ein Diskurs zum 75. Geburtstag Petra Kelly
 s
DTSTART:20221129T180000
DTEND:20221129T200000
UID:2026-04-22-04-46-25-0-@calendar.boell.de
DTSTAMP:20260422T024625
DESCRIPTION:▶ Heinrich-Böll-Stiftung\, Bundesstiftung Berlin sowie Onlin
 e – Berlin – Heinrich-Böll-Stiftung - Bundesstiftung Berlin
END:VEVENT
END:VCALENDAR
