BEGIN:VCALENDAR
VERSION:2.0
PRODID:-//ZContent.net//ZapCalLib 1.0//EN
CALSCALE:GREGORIAN
METHOD:PUBLISH
BEGIN:VEVENT
SUMMARY:Nach der Krise ist vor der Krise –  Was wir aus der Pandemiezeit 
 lernen könn(t)en | Lesung + Erfahrungsaustausch
DTSTART:20221209T190000
DTEND:20221209T210000
UID:2026-04-26-05-22-01-0-@calendar.boell.de
DTSTAMP:20260426T032201
DESCRIPTION:▶ Siehe Veranstaltungsbeschreibung – Leipzig – Landesstif
 tung Sachsen (Weiterdenken)
END:VEVENT
END:VCALENDAR
