BEGIN:VCALENDAR
VERSION:2.0
PRODID:-//ZContent.net//ZapCalLib 1.0//EN
CALSCALE:GREGORIAN
METHOD:PUBLISH
BEGIN:VEVENT
SUMMARY:Viele hoffen auf die Revolution | Debatte Münster fragt wie die em
 anzipatorischen Proteste im Iran unterstützt werden können
DTSTART:20221124T200000
DTEND:20221124T220000
UID:2026-04-22-03-01-38-0-@calendar.boell.de
DTSTAMP:20260422T010138
DESCRIPTION:▶ Siehe Veranstaltungsbeschreibung – Landesstiftung Nordrhe
 in-Westfalen
END:VEVENT
END:VCALENDAR
