BEGIN:VCALENDAR
VERSION:2.0
PRODID:-//ZContent.net//ZapCalLib 1.0//EN
CALSCALE:GREGORIAN
METHOD:PUBLISH
BEGIN:VEVENT
SUMMARY:Was wird aus dem Kapitalismus? | Frauen*poliTisch – Das Frauen*ti
 schgespräch im Frauenzentrum Laatzen - Mit Impulsvortrag von Dr. Beate Ka
 sper
DTSTART:20221205T180000
DTEND:20221205T200000
UID:2026-04-22-01-38-32-0-@calendar.boell.de
DTSTAMP:20260421T233832
DESCRIPTION:▶ Siehe Veranstaltungsbeschreibung – Laatzen – Stiftung L
 eben & Umwelt / Heinrich-Böll-Stiftung Niedersachsen
END:VEVENT
END:VCALENDAR
