BEGIN:VCALENDAR
VERSION:2.0
PRODID:-//ZContent.net//ZapCalLib 1.0//EN
CALSCALE:GREGORIAN
METHOD:PUBLISH
BEGIN:VEVENT
SUMMARY:Empowerment durch kreatives Schreiben | Poetry Workshop
DTSTART:20230114T100000
DTEND:20230115T180000
UID:2026-04-24-05-35-03-0-@calendar.boell.de
DTSTAMP:20260424T033503
DESCRIPTION:▶ Siehe Veranstaltungsbeschreibung – Berlin – Landesstift
 ung Berlin (Bildungswerk)
END:VEVENT
END:VCALENDAR
