BEGIN:VCALENDAR
VERSION:2.0
PRODID:-//ZContent.net//ZapCalLib 1.0//EN
CALSCALE:GREGORIAN
METHOD:PUBLISH
BEGIN:VEVENT
SUMMARY: Umgang mit Rassismus im Kinderbuch (AUSGEBUCHT)
DTSTART:20230210T090000
DTEND:20230210T123000
UID:2026-04-21-12-45-35-0-@calendar.boell.de
DTSTAMP:20260421T104535
DESCRIPTION:▶ Online-Veranstaltung – Landesstiftung Sachsen-Anhalt
END:VEVENT
END:VCALENDAR
