BEGIN:VCALENDAR
VERSION:2.0
PRODID:-//ZContent.net//ZapCalLib 1.0//EN
CALSCALE:GREGORIAN
METHOD:PUBLISH
BEGIN:VEVENT
SUMMARY:Der 4. Dezember 1989 in Erfurt
DTSTART:20221204T180000
DTEND:20221204T203000
UID:2026-04-21-15-49-48-0-@calendar.boell.de
DTSTAMP:20260421T134948
DESCRIPTION:▶ Siehe Veranstaltungsbeschreibung – Erfurt – Externe Ver
 anstaltung
END:VEVENT
END:VCALENDAR
