BEGIN:VCALENDAR
VERSION:2.0
PRODID:-//ZContent.net//ZapCalLib 1.0//EN
CALSCALE:GREGORIAN
METHOD:PUBLISH
BEGIN:VEVENT
SUMMARY:Solar-Beratung: Schulung für Multiplikator*innen
DTSTART:20230120T170000
DTEND:20230120T210000
UID:2026-04-22-03-01-42-0-@calendar.boell.de
DTSTAMP:20260422T010142
DESCRIPTION:▶ Siehe Veranstaltungsbeschreibung – Rostock – Landesstif
 tung Mecklenburg-Vorpommern
END:VEVENT
END:VCALENDAR
