BEGIN:VCALENDAR
VERSION:2.0
PRODID:-//ZContent.net//ZapCalLib 1.0//EN
CALSCALE:GREGORIAN
METHOD:PUBLISH
BEGIN:VEVENT
SUMMARY:Mutig & Stark I: Grundlagen (ausgebucht/Warteliste) | Als Frau selb
 stsicher kommunizieren
DTSTART:20230613T173000
DTEND:20230617T210000
UID:2026-04-21-17-12-42-0-@calendar.boell.de
DTSTAMP:20260421T151242
DESCRIPTION:▶ Siehe Veranstaltungsbeschreibung – Düsseldorf – Landes
 stiftung Nordrhein-Westfalen
END:VEVENT
END:VCALENDAR
