BEGIN:VCALENDAR
VERSION:2.0
PRODID:-//ZContent.net//ZapCalLib 1.0//EN
CALSCALE:GREGORIAN
METHOD:PUBLISH
BEGIN:VEVENT
SUMMARY:Tag der Landwirtschaft
DTSTART:20230205T090000
DTEND:20230205T163000
UID:2026-04-21-13-57-09-0-@calendar.boell.de
DTSTAMP:20260421T115709
DESCRIPTION:▶ Siehe Veranstaltungsbeschreibung – Weimar – Landesstift
 ung Thüringen
END:VEVENT
END:VCALENDAR
