BEGIN:VCALENDAR
VERSION:2.0
PRODID:-//ZContent.net//ZapCalLib 1.0//EN
CALSCALE:GREGORIAN
METHOD:PUBLISH
BEGIN:VEVENT
SUMMARY:„Heinrich Bölls und seiner Familie Kampf für Menschlichkeit“ 
  | Vortrag und Gespräch mit René Böll
DTSTART:20230125T180000
DTEND:20230125T200000
UID:2026-04-23-17-54-55-0-@calendar.boell.de
DTSTAMP:20260423T155455
DESCRIPTION:▶ Siehe Veranstaltungsbeschreibung – Bremen – Landesstift
 ung Bremen
END:VEVENT
END:VCALENDAR
