BEGIN:VCALENDAR
VERSION:2.0
PRODID:-//ZContent.net//ZapCalLib 1.0//EN
CALSCALE:GREGORIAN
METHOD:PUBLISH
BEGIN:VEVENT
SUMMARY:Den kommunalen Haushalt verstehen und erfolgreich gestalten  | Rech
 tzeitig nachhaltige Haushalte planen
DTSTART:20230318T100000
DTEND:20230318T133000
UID:2026-04-21-22-27-01-0-@calendar.boell.de
DTSTAMP:20260421T202701
DESCRIPTION:▶ Online-Veranstaltung – Petra-Kelly-Stiftung
END:VEVENT
END:VCALENDAR
