BEGIN:VCALENDAR
VERSION:2.0
PRODID:-//ZContent.net//ZapCalLib 1.0//EN
CALSCALE:GREGORIAN
METHOD:PUBLISH
BEGIN:VEVENT
SUMMARY:Für die »Weiterwohnlichkeit der Welt« | Hans Jonas und das Prinz
 ip Verantwortung heute
DTSTART:20230512T180000
DTEND:20230513T170000
UID:2026-04-21-15-49-53-0-@calendar.boell.de
DTSTAMP:20260421T134953
DESCRIPTION:▶ Siehe Veranstaltungsbeschreibung – Freiburg – Heinrich 
 Böll Stiftung Baden-Württemberg
END:VEVENT
END:VCALENDAR
