BEGIN:VCALENDAR
VERSION:2.0
PRODID:-//ZContent.net//ZapCalLib 1.0//EN
CALSCALE:GREGORIAN
METHOD:PUBLISH
BEGIN:VEVENT
SUMMARY:Wie geht gute Klimakommunikation? | Ein interaktiver Online-Worksho
 p
DTSTART:20230124T170000
DTEND:20230124T200000
UID:2026-04-21-13-57-16-0-@calendar.boell.de
DTSTAMP:20260421T115716
DESCRIPTION:▶ Siehe Veranstaltungsbeschreibung – Landesstiftung Hessen
END:VEVENT
END:VCALENDAR
