BEGIN:VCALENDAR
VERSION:2.0
PRODID:-//ZContent.net//ZapCalLib 1.0//EN
CALSCALE:GREGORIAN
METHOD:PUBLISH
BEGIN:VEVENT
SUMMARY:Bellevue for Future | NO FUTURE? Migration und Flucht in der Klimak
 rise
DTSTART:20230224T190000
DTEND:20230226T130000
UID:2026-04-24-09-42-10-0-@calendar.boell.de
DTSTAMP:20260424T074210
DESCRIPTION:▶ Siehe Veranstaltungsbeschreibung – München – Petra-Kel
 ly-Stiftung
END:VEVENT
END:VCALENDAR
