BEGIN:VCALENDAR
VERSION:2.0
PRODID:-//ZContent.net//ZapCalLib 1.0//EN
CALSCALE:GREGORIAN
METHOD:PUBLISH
BEGIN:VEVENT
SUMMARY:Auf den Punkt gebracht | Effektive Pressearbeit
DTSTART:20230420T160000
DTEND:20230420T190000
UID:2026-04-21-22-14-10-0-@calendar.boell.de
DTSTAMP:20260421T201410
DESCRIPTION:▶ Siehe Veranstaltungsbeschreibung – Heinrich Böll Stiftun
 g Baden-Württemberg
END:VEVENT
END:VCALENDAR
