BEGIN:VCALENDAR
VERSION:2.0
PRODID:-//ZContent.net//ZapCalLib 1.0//EN
CALSCALE:GREGORIAN
METHOD:PUBLISH
BEGIN:VEVENT
SUMMARY:Sprache & Klassismus: diskriminierende Sprachbilder erkennen (ausge
 bucht)
DTSTART:20230311T100000
DTEND:20230311T130000
UID:2026-04-21-12-01-16-0-@calendar.boell.de
DTSTAMP:20260421T100116
DESCRIPTION:▶ Online-Veranstaltung – Landesstiftung Sachsen-Anhalt
END:VEVENT
END:VCALENDAR
