BEGIN:VCALENDAR
VERSION:2.0
PRODID:-//ZContent.net//ZapCalLib 1.0//EN
CALSCALE:GREGORIAN
METHOD:PUBLISH
BEGIN:VEVENT
SUMMARY:Ganz normale Schmerzen? Geschlechtergerechtigkeit in der Medizin | 
 Recht auf gerecht! Der Talk über Gerechtigkeit // TEIL 1
DTSTART:20230329T190000
DTEND:20230329T203000
UID:2026-04-21-13-57-12-0-@calendar.boell.de
DTSTAMP:20260421T115712
DESCRIPTION:▶ Siehe Veranstaltungsbeschreibung – München – Petra-Kel
 ly-Stiftung
END:VEVENT
END:VCALENDAR
