BEGIN:VCALENDAR
VERSION:2.0
PRODID:-//ZContent.net//ZapCalLib 1.0//EN
CALSCALE:GREGORIAN
METHOD:PUBLISH
BEGIN:VEVENT
SUMMARY:Weaving Connections - Lateinamerika und Sachsen-Anhalt im Gespräch
   | Online-Reihe zu lokalen und globalen Perspektiven sozial-ökologischen
  Wandels
DTSTART:20230309T140000
DTEND:20230309T150000
UID:2026-04-22-03-01-41-0-@calendar.boell.de
DTSTAMP:20260422T010141
DESCRIPTION:▶ Online-Veranstaltung – Landesstiftung Sachsen-Anhalt
END:VEVENT
END:VCALENDAR
