BEGIN:VCALENDAR
VERSION:2.0
PRODID:-//ZContent.net//ZapCalLib 1.0//EN
CALSCALE:GREGORIAN
METHOD:PUBLISH
BEGIN:VEVENT
SUMMARY:Alles nur geklaut? | Eine Podiumsdiskussion zum Umgang mit kulturel
 ler Aneignung
DTSTART:20230321T190000
DTEND:20230321T203000
UID:2026-04-22-03-01-42-0-@calendar.boell.de
DTSTAMP:20260422T010142
DESCRIPTION:▶ Siehe Veranstaltungsbeschreibung – 
END:VEVENT
END:VCALENDAR
