BEGIN:VCALENDAR
VERSION:2.0
PRODID:-//ZContent.net//ZapCalLib 1.0//EN
CALSCALE:GREGORIAN
METHOD:PUBLISH
BEGIN:VEVENT
SUMMARY:Gewalt in Europa - Flüchtende schützen!
DTSTART:20230329T190000
DTEND:20230329T203000
UID:2026-04-26-05-22-02-0-@calendar.boell.de
DTSTAMP:20260426T032202
DESCRIPTION:▶ Siehe Veranstaltungsbeschreibung – Landesstiftung Berlin 
 (Bildungswerk)
END:VEVENT
END:VCALENDAR
