BEGIN:VCALENDAR
VERSION:2.0
PRODID:-//ZContent.net//ZapCalLib 1.0//EN
CALSCALE:GREGORIAN
METHOD:PUBLISH
BEGIN:VEVENT
SUMMARY:Aktionswochen für eine Zukunft nach Tschernobyl und Fukushima  | Z
 eitzeug*innen über die Ereignisse der Reaktorkatastrophe
DTSTART:20230314T160000
DTEND:20230314T180000
UID:2026-04-21-17-13-08-0-@calendar.boell.de
DTSTAMP:20260421T151308
DESCRIPTION:▶ Siehe Veranstaltungsbeschreibung – Lübeck – Landesstif
 tung Schleswig-Holstein
END:VEVENT
END:VCALENDAR
