BEGIN:VCALENDAR
VERSION:2.0
PRODID:-//ZContent.net//ZapCalLib 1.0//EN
CALSCALE:GREGORIAN
METHOD:PUBLISH
BEGIN:VEVENT
SUMMARY:Krisensichere Landwirtschaft weltweite Ernährungssicherheit wirksa
 mer Klima- und Umweltschutz - wie schaffen wir das?
DTSTART:20230303T100000
DTEND:20230303T160000
UID:2026-04-21-22-26-54-0-@calendar.boell.de
DTSTAMP:20260421T202654
DESCRIPTION:▶ Siehe Veranstaltungsbeschreibung – Petra-Kelly-Stiftung
END:VEVENT
END:VCALENDAR
