BEGIN:VCALENDAR
VERSION:2.0
PRODID:-//ZContent.net//ZapCalLib 1.0//EN
CALSCALE:GREGORIAN
METHOD:PUBLISH
BEGIN:VEVENT
SUMMARY:Theatrale Formen politischen Widerstands | Rahmenprogramm Jala Wahi
 d | Mock Kings
DTSTART:20230427T190000
DTEND:20230427T213000
UID:2026-04-23-17-54-56-0-@calendar.boell.de
DTSTAMP:20260423T155456
DESCRIPTION:▶ Siehe Veranstaltungsbeschreibung – Freiburg – Heinrich 
 Böll Stiftung Baden-Württemberg
END:VEVENT
END:VCALENDAR
