BEGIN:VCALENDAR
VERSION:2.0
PRODID:-//ZContent.net//ZapCalLib 1.0//EN
CALSCALE:GREGORIAN
METHOD:PUBLISH
BEGIN:VEVENT
SUMMARY:RISE UP | Die Suche nach Antworten auf die verheerenden ökologisch
 en, wirtschaftlichen und autoritären Entwicklungen unserer Zeit.
DTSTART:20230405T180000
DTEND:20230405T200000
UID:2026-04-22-01-38-49-0-@calendar.boell.de
DTSTAMP:20260421T233849
DESCRIPTION:▶ Siehe Veranstaltungsbeschreibung – Jena – Landesstiftun
 g Thüringen
END:VEVENT
END:VCALENDAR
