BEGIN:VCALENDAR
VERSION:2.0
PRODID:-//ZContent.net//ZapCalLib 1.0//EN
CALSCALE:GREGORIAN
METHOD:PUBLISH
BEGIN:VEVENT
SUMMARY:Ausgebucht! Wie Moore das Klima schützen und warum Moorschutz eine
  Aufgabe für uns alle ist | Tagesexkursion in die Harzer Hochmoore
DTSTART:20230511T090000
DTEND:20230511T173000
UID:2026-04-26-06-15-27-0-@calendar.boell.de
DTSTAMP:20260426T041527
DESCRIPTION:▶ Siehe Veranstaltungsbeschreibung – Wernigerode – Landes
 stiftung Sachsen-Anhalt
END:VEVENT
END:VCALENDAR
