BEGIN:VCALENDAR
VERSION:2.0
PRODID:-//ZContent.net//ZapCalLib 1.0//EN
CALSCALE:GREGORIAN
METHOD:PUBLISH
BEGIN:VEVENT
SUMMARY:Wir wissen, was wir wollen – Frauenrevolution in Nord- und Ostsyr
 ien. | Lesung
DTSTART:20230323T193000
DTEND:20230323T193000
UID:2026-04-26-06-15-27-0-@calendar.boell.de
DTSTAMP:20260426T041527
DESCRIPTION:▶ Siehe Veranstaltungsbeschreibung – Nürnberg – Petra-Ke
 lly-Stiftung
END:VEVENT
END:VCALENDAR
