BEGIN:VCALENDAR
VERSION:2.0
PRODID:-//ZContent.net//ZapCalLib 1.0//EN
CALSCALE:GREGORIAN
METHOD:PUBLISH
BEGIN:VEVENT
SUMMARY:Gesund bleiben. Mental Health, Resilienz und Kompetenz in der Klima
 krise
DTSTART:20230606T190000
DTEND:20230606T210000
UID:2026-04-22-04-46-06-0-@calendar.boell.de
DTSTAMP:20260422T024606
DESCRIPTION:▶ Siehe Veranstaltungsbeschreibung – Halle (Saale) – Land
 esstiftung Sachsen-Anhalt
END:VEVENT
END:VCALENDAR
