BEGIN:VCALENDAR
VERSION:2.0
PRODID:-//ZContent.net//ZapCalLib 1.0//EN
CALSCALE:GREGORIAN
METHOD:PUBLISH
BEGIN:VEVENT
SUMMARY:[verschoben] »Das ökologische Grundgesetz« - Wie und warum die N
 atur ein Rechtssubjekt werden muss | um.welt.sorgen
DTSTART:20230327T200000
DTEND:20230327T220000
UID:2026-04-22-03-01-56-0-@calendar.boell.de
DTSTAMP:20260422T010156
DESCRIPTION:▶ Siehe Veranstaltungsbeschreibung – Hannover – Stiftung 
 Leben & Umwelt / Heinrich-Böll-Stiftung Niedersachsen
END:VEVENT
END:VCALENDAR
