BEGIN:VCALENDAR
VERSION:2.0
PRODID:-//ZContent.net//ZapCalLib 1.0//EN
CALSCALE:GREGORIAN
METHOD:PUBLISH
BEGIN:VEVENT
SUMMARY:Was Sie schon immer über Balkon Solaranlagen wissen wollten! | mit
  bewirk – Gemeinsam fürs Klima
DTSTART:20230329T190000
DTEND:20230329T210000
UID:2026-04-21-11-35-14-0-@calendar.boell.de
DTSTAMP:20260421T093514
DESCRIPTION:Heinrich-Böll-Stiftung Schleswig-Holstein – Kiel – Landess
 tiftung Schleswig-Holstein
END:VEVENT
END:VCALENDAR
