BEGIN:VCALENDAR
VERSION:2.0
PRODID:-//ZContent.net//ZapCalLib 1.0//EN
CALSCALE:GREGORIAN
METHOD:PUBLISH
BEGIN:VEVENT
SUMMARY:Vom Sinn und Unsinn der Herkunftsdebatte | Aus der Reihe: Neue deut
 sche Analysen 
DTSTART:20230509T190000
DTEND:20230509T210000
UID:2026-04-21-12-01-54-0-@calendar.boell.de
DTSTAMP:20260421T100154
DESCRIPTION:▶ Siehe Veranstaltungsbeschreibung – Hamburg – Landesstif
 tung Hamburg
END:VEVENT
END:VCALENDAR
