BEGIN:VCALENDAR
VERSION:2.0
PRODID:-//ZContent.net//ZapCalLib 1.0//EN
CALSCALE:GREGORIAN
METHOD:PUBLISH
BEGIN:VEVENT
SUMMARY:Geschichtssalon & Buchvorstellung â€žDer Klang der blauen Gitarreâ€
 œ
DTSTART:20230531T190000
DTEND:20230531T203000
UID:2026-04-21-23-40-45-0-@calendar.boell.de
DTSTAMP:20260421T214045
DESCRIPTION:â–¶ Siehe Veranstaltungsbeschreibung â€“ Rostock â€“ Landesstif
 tung Mecklenburg-Vorpommern
END:VEVENT
END:VCALENDAR
