BEGIN:VCALENDAR
VERSION:2.0
PRODID:-//ZContent.net//ZapCalLib 1.0//EN
CALSCALE:GREGORIAN
METHOD:PUBLISH
BEGIN:VEVENT
SUMMARY:#niunamenos   | Der gefährliche Kampf um Frauenrechte
DTSTART:20230502T190000
DTEND:20230502T213000
UID:2026-04-21-15-22-56-0-@calendar.boell.de
DTSTAMP:20260421T132256
DESCRIPTION:▶ Siehe Veranstaltungsbeschreibung – München – Petra-Kel
 ly-Stiftung
END:VEVENT
END:VCALENDAR
