BEGIN:VCALENDAR
VERSION:2.0
PRODID:-//ZContent.net//ZapCalLib 1.0//EN
CALSCALE:GREGORIAN
METHOD:PUBLISH
BEGIN:VEVENT
SUMMARY:Gleiches Recht für alle? | Dialogischer Fachtag über sexuelle und
  reproduktive Rechte im Kontext Sexarbeit
DTSTART:20230705T090000
DTEND:20230705T163000
UID:2026-04-21-12-12-32-0-@calendar.boell.de
DTSTAMP:20260421T101232
DESCRIPTION:▶ Siehe Veranstaltungsbeschreibung – Dresden – Landesstif
 tung Sachsen (Weiterdenken)
END:VEVENT
END:VCALENDAR
