BEGIN:VCALENDAR
VERSION:2.0
PRODID:-//ZContent.net//ZapCalLib 1.0//EN
CALSCALE:GREGORIAN
METHOD:PUBLISH
BEGIN:VEVENT
SUMMARY:Wasserkrise in der Altmark - Wie umgehen mit dem knappen Gut? | Pod
 iumsgespräch zur Ausstellungseröffnung "Alles im Fluß!? Wasser in der K
 rise" in Salzwedel
DTSTART:20230522T180000
DTEND:20230522T200000
UID:2026-04-21-19-13-57-0-@calendar.boell.de
DTSTAMP:20260421T171357
DESCRIPTION:▶ Siehe Veranstaltungsbeschreibung – Landesstiftung Sachsen
 -Anhalt
END:VEVENT
END:VCALENDAR
