BEGIN:VCALENDAR
VERSION:2.0
PRODID:-//ZContent.net//ZapCalLib 1.0//EN
CALSCALE:GREGORIAN
METHOD:PUBLISH
BEGIN:VEVENT
SUMMARY:Chinas Gesellschaft im Umbruch | Fachvorträge und Präsentation de
 s Buches „Familie, Leben, Pandemie“ der Künstlerin Jing Y.
DTSTART:20230530T180000
DTEND:20230530T200000
UID:2026-04-20-11-03-27-0-@calendar.boell.de
DTSTAMP:20260420T090327
DESCRIPTION:Heinrich-Böll-Stiftung - Bundesstiftung Berlin – Berlin – 
 Heinrich-Böll-Stiftung - Bundesstiftung Berlin
END:VEVENT
END:VCALENDAR
