BEGIN:VCALENDAR
VERSION:2.0
PRODID:-//ZContent.net//ZapCalLib 1.0//EN
CALSCALE:GREGORIAN
METHOD:PUBLISH
BEGIN:VEVENT
SUMMARY:Arabische Redaktion
DTSTART:20230509T170000
DTEND:20230509T180000
UID:2026-04-24-02-47-32-0-@calendar.boell.de
DTSTAMP:20260424T004732
DESCRIPTION:▶ Siehe Veranstaltungsbeschreibung – Petra-Kelly-Stiftung
END:VEVENT
END:VCALENDAR
