BEGIN:VCALENDAR
VERSION:2.0
PRODID:-//ZContent.net//ZapCalLib 1.0//EN
CALSCALE:GREGORIAN
METHOD:PUBLISH
BEGIN:VEVENT
SUMMARY:LUNA AL-MOUSLI: EINE TRÄNE. EIN LÄCHELN | herkunft: Lesung und Ge
 spräch im Frauencafé
DTSTART:20230427T100000
DTEND:20230427T113000
UID:2026-04-22-01-15-20-0-@calendar.boell.de
DTSTAMP:20260421T231520
DESCRIPTION:▶ Siehe Veranstaltungsbeschreibung – Freiburg – Heinrich 
 Böll Stiftung Baden-Württemberg
END:VEVENT
END:VCALENDAR
