BEGIN:VCALENDAR
VERSION:2.0
PRODID:-//ZContent.net//ZapCalLib 1.0//EN
CALSCALE:GREGORIAN
METHOD:PUBLISH
BEGIN:VEVENT
SUMMARY:Wir können auch anders | Die feministische Presserunde
DTSTART:20230630T180000
DTEND:20230630T193000
UID:2026-04-22-03-25-55-0-@calendar.boell.de
DTSTAMP:20260422T012555
DESCRIPTION:▶ Siehe Veranstaltungsbeschreibung – 
END:VEVENT
END:VCALENDAR
