BEGIN:VCALENDAR
VERSION:2.0
PRODID:-//ZContent.net//ZapCalLib 1.0//EN
CALSCALE:GREGORIAN
METHOD:PUBLISH
BEGIN:VEVENT
SUMMARY:ChatGPT: KI verstehen - Der richtige Weg? | Reihe | KI-Dialoge: Cha
 ncen, Risiken und Regulierung von ChatGPT
DTSTART:20230626T183000
DTEND:20230626T200000
UID:2026-04-22-03-25-35-0-@calendar.boell.de
DTSTAMP:20260422T012535
DESCRIPTION:▶ Online-Veranstaltung – Heinrich-Böll-Stiftung im Stiftun
 gsverbund
END:VEVENT
END:VCALENDAR
