BEGIN:VCALENDAR
VERSION:2.0
PRODID:-//ZContent.net//ZapCalLib 1.0//EN
CALSCALE:GREGORIAN
METHOD:PUBLISH
BEGIN:VEVENT
SUMMARY:Da geht noch mehr! | Kommune trifft Zukunft - Energiewende selbst g
 estalten 
DTSTART:20230928T100000
DTEND:20230928T143000
UID:2026-04-21-22-27-07-0-@calendar.boell.de
DTSTAMP:20260421T202707
DESCRIPTION:▶ Siehe Veranstaltungsbeschreibung – Landesstiftung Thürin
 gen
END:VEVENT
END:VCALENDAR
