BEGIN:VCALENDAR
VERSION:2.0
PRODID:-//ZContent.net//ZapCalLib 1.0//EN
CALSCALE:GREGORIAN
METHOD:PUBLISH
BEGIN:VEVENT
SUMMARY:Raus aus der Krise – Migration vorausschauend und menschenwürdig
  gestalten
DTSTART:20231028T100000
DTEND:20231028T163000
UID:2026-04-21-11-34-31-0-@calendar.boell.de
DTSTAMP:20260421T093431
DESCRIPTION:▶ Siehe Veranstaltungsbeschreibung – Dresden – Landesstif
 tung Sachsen (Weiterdenken)
END:VEVENT
END:VCALENDAR
