BEGIN:VCALENDAR
VERSION:2.0
PRODID:-//ZContent.net//ZapCalLib 1.0//EN
CALSCALE:GREGORIAN
METHOD:PUBLISH
BEGIN:VEVENT
SUMMARY:Moorschutz oder Hafenausbau ohne Grenzen?
DTSTART:20230619T200000
DTEND:20230619T213000
UID:2026-04-21-14-22-49-0-@calendar.boell.de
DTSTAMP:20260421T122249
DESCRIPTION:Rostock – Landesstiftung Mecklenburg-Vorpommern
END:VEVENT
END:VCALENDAR
