BEGIN:VCALENDAR
VERSION:2.0
PRODID:-//ZContent.net//ZapCalLib 1.0//EN
CALSCALE:GREGORIAN
METHOD:PUBLISH
BEGIN:VEVENT
SUMMARY:Grundlagen guter Pressearbeit fÃ¼r ehrenamtlich Engagierte | Ein Ta
 gestraining mit Emily Laquer
DTSTART:20231007T110000
DTEND:20231007T180000
UID:2026-04-26-05-22-02-0-@calendar.boell.de
DTSTAMP:20260426T032202
DESCRIPTION:â–¶ Siehe Veranstaltungsbeschreibung â€“ LÃ¼bbenau/Spreewald â€
 “ Landesstiftung Brandenburg
END:VEVENT
END:VCALENDAR
